BEGIN:VCALENDAR
VERSION:2.0
PRODID:-//ChamberMaster//Event Calendar 2.0//EN
METHOD:PUBLISH
X-PUBLISHED-TTL:P3D
REFRESH-INTERVAL:P3D
CALSCALE:GREGORIAN
BEGIN:VEVENT
DTSTART:20141213T230000Z
DTEND:20141214T020000Z
X-MICROSOFT-CDO-ALLDAYEVENT:FALSE
SUMMARY:Sample of DeWitt
DESCRIPTION:A benefit event for the band shelter in DeWitt's Lincoln Park. Come & experience:\n\n	Local Food Tasting  \n	Auction Items  \n	Door Prizes\n	Live Music\n\nFood & Drinks Provided by: Barnes  Foodland\, Buzzy's Tap\, DeWitt Nite Lions\, DeWitt Travel Mart\, G. Baker Distributing\, Golden Wok Chinese Restaurant\, Hall of Fame Pizza and Wings\, Matthiesen's Catering\, McDonalds\, Mezcal Mexican Bar & Grill\, MJ's East\, Pizza Hut\, TC's Point After\, and Whisk Away Caf  and Bakery\n\n\n\nDoor Prizes & Silent Auction Items From: A Bella Vita Salon & Spa\, Art's Barber Shop\, Bella Sole\, Classic Hair Designs\, The Crossroads Inspired Living\, Cups & Cones\, DeWitt Fitness Center\, DeWitt Office Center\, DeWitt Operahouse Theatre\, Go Van Gogh's\, Graphic Elements\, Hawk-I Home Improvement\, Heartland Cottons\, Jessie's Wapsi Retreat\, Jorgie's Bar & Grill\, Kamper Korner\, Kunau Implement\, Meant To Be With Flowers\, Necker's Jewelers\, The Observer\, Rock Valley Physical Therapy\, Ruhl & Ruhl\, Springbrook Country Club\, Subway\, Theisen's Home-Farm Auto and T.S. Small Engine Repair
X-ALT-DESC;FMTTYPE=text/html:A benefit event for the band shelter in DeWitt&#39\;s Lincoln Park. Come &amp\; experience:\n<ul>\n	<li><strong>Local Food Tasting &nbsp\;</strong></li>\n	<li><strong>Auction Items &nbsp\;</strong></li>\n	<li><strong>Door Prizes</strong></li>\n	<li><strong>Live Music</strong></li>\n</ul>\n<strong>Food &amp\; Drinks Provided by:</strong> Barnes &#8203\;Foodland\, Buzzy&#39\;s Tap\, DeWitt Nite Lions\, DeWitt Travel Mart\, G. Baker Distributing\, Golden Wok Chinese Restaurant\, Hall of Fame Pizza and Wings\, Matthiesen&#39\;s Catering\, McDonalds\, Mezcal Mexican Bar &amp\; Grill\, MJ&#39\;s East\, Pizza Hut\, TC&#39\;s Point After\, and Whisk Away Caf&eacute\; and Bakery<br />\n<br />\n<strong>Door Prizes &amp\; Silent Auction Items From:</strong> A Bella Vita Salon &amp\; Spa\, Art&#39\;s Barber Shop\, Bella Sole\, Classic Hair Designs\, The Crossroads Inspired Living\, Cups &amp\; Cones\, DeWitt Fitness Center\, DeWitt Office Center\, DeWitt Operahouse Theatre\, Go Van Gogh&#39\;s\, Graphic Elements\, Hawk-I Home Improvement\, Heartland Cottons\, Jessie&#39\;s Wapsi Retreat\, Jorgie&#39\;s Bar &amp\; Grill\, Kamper Korner\, Kunau Implement\, Meant To Be With Flowers\, Necker&#39\;s Jewelers\, The Observer\, Rock Valley Physical Therapy\, Ruhl &amp\; Ruhl\, Springbrook Country Club\, Subway\, Theisen&#39\;s Home-Farm Auto and T.S. Small Engine Repair<br />\n&nbsp\;
LOCATION:Clinton County Fairgrounds 328 E 8th St\, DeWitt\, IA 52742
UID:e.1774.223
SEQUENCE:3
DTSTAMP:20260421T173913Z
URL:https://business.dewittiowa.org/events/details/sample-of-dewitt-12-13-2014-223
END:VEVENT

END:VCALENDAR
