BEGIN:VCALENDAR
VERSION:2.0
PRODID:-//ChamberMaster//Event Calendar 2.0//EN
METHOD:PUBLISH
X-PUBLISHED-TTL:P3D
REFRESH-INTERVAL:P3D
CALSCALE:GREGORIAN
BEGIN:VEVENT
DTSTART:20151116T180000Z
DTEND:20151116T220000Z
X-MICROSOFT-CDO-ALLDAYEVENT:FALSE
SUMMARY:SBDC Counseling Opportunity
DESCRIPTION:Looking to Start a Business or Need Some Existing Business Advice?\n\n\n\nWhat: Free\, Confidential and Individualized Counseling Sessions\n\nWhen: Tuesday\, November 17th\, Noon   4 pm (by appointment)\n\nWhere: 1010 6th Ave. DeWitt IA\n\n(DeWitt Chamber & Development Company Office)\n\n\n\nThe DCDC has partnered with Marsha Rinetti\, Director of the Eastern Iowa Small Business Development Center\, to bring her services to DeWitt on the third Tuesday of each month. Marsha will be available to speak to both existing businesses and individuals looking to start their own business and provide counseling on a variety of topics\, including but not limited to:\n\n	New business guidance\n	Business planning and modeling\n	Loan proposal assistance\n	Financing opportunities\n	Market research services\n	Export assistance\n	Cash flow projections\n	Business growth and succession strategies\n	Strategic planning\n	Business continuity planning\n\nTo sign up for a free\, confidential one-hour session\, please\n\ncontact Kathy at the SBDC at 563-336-3401 by November 10th.
X-ALT-DESC;FMTTYPE=text/html:Looking to Start a Business or Need Some Existing Business Advice?<br />\n<br />\nWhat: Free\, Confidential and Individualized Counseling Sessions<br />\nWhen: Tuesday\, November 17th\, Noon &mdash\; 4 pm (by appointment)<br />\nWhere: 1010 6th Ave. DeWitt IA<br />\n(DeWitt Chamber &amp\; Development Company Office)<br />\n<br />\nThe DCDC has partnered with Marsha Rinetti\, Director of the Eastern Iowa Small&nbsp\;Business Development Center\, to bring her services to DeWitt on the third Tuesday&nbsp\;of each month. Marsha will be available to speak to both existing businesses and&nbsp\;individuals looking to start their own business and provide counseling on a variety&nbsp\;of topics\, including but not limited to:\n<ul>\n	<li>New business guidance</li>\n	<li>Business planning and modeling</li>\n	<li>Loan proposal assistance</li>\n	<li>Financing opportunities</li>\n	<li>Market research services</li>\n	<li>Export assistance</li>\n	<li>Cash flow projections</li>\n	<li>Business growth and succession strategies</li>\n	<li>Strategic planning</li>\n	<li>Business continuity planning</li>\n</ul>\nTo sign up for a free\, confidential one-hour session\, please<br />\ncontact Kathy at the SBDC at 563-336-3401 by November&nbsp\;10th.
LOCATION:DeWitt Chamber & Development Company 1010 6th Ave. DeWitt
UID:e.1774.311
SEQUENCE:3
DTSTAMP:20260420T232950Z
URL:https://business.dewittiowa.org/events/details/sbdc-counseling-opportunity-11-16-2015-311
END:VEVENT

END:VCALENDAR
