BEGIN:VCALENDAR
VERSION:2.0
PRODID:-//ChamberMaster//Event Calendar 2.0//EN
METHOD:PUBLISH
X-PUBLISHED-TTL:P3D
REFRESH-INTERVAL:P3D
CALSCALE:GREGORIAN
BEGIN:VEVENT
DTSTART:20170506T220000Z
DTEND:20170507T010000Z
X-MICROSOFT-CDO-ALLDAYEVENT:FALSE
SUMMARY:Scavenger Hunt Fundraiser through Downtown DeWitt
DESCRIPTION:DeWitt Junior Women present....Scavenger Hunt Fundraiser through Downtown DeWitt! Funds raised go to support DeWitt's Summer Lunchbox Program.
X-ALT-DESC;FMTTYPE=text/html:DeWitt Junior Women present....Scavenger Hunt Fundraiser through Downtown DeWitt! Funds raised go to support DeWitt&#39\;s Summer Lunchbox Program.
LOCATION:Starts at The Old Library at 5 PM. Ends at Murphy's Pub at 8 PM.
UID:e.1774.2950
SEQUENCE:3
DTSTAMP:20260419T183305Z
URL:https://business.dewittiowa.org/events/details/scavenger-hunt-fundraiser-through-downtown-dewitt-2950
END:VEVENT

END:VCALENDAR
