BEGIN:VCALENDAR
VERSION:2.0
PRODID:-//ChamberMaster//Event Calendar 2.0//EN
METHOD:PUBLISH
X-PUBLISHED-TTL:P3D
REFRESH-INTERVAL:P3D
CALSCALE:GREGORIAN
BEGIN:VEVENT
DTSTART;VALUE=DATE:20151016
DTEND;VALUE=DATE:20151017
TRANSP:TRANSPARENT
X-MICROSOFT-CDO-ALLDAYEVENT:TRUE
SUMMARY:Schedule a Flu Shot Clinic for Your Business!
DESCRIPTION:Book Your Flu Clinic NOW!\n\n \n\nAttention Business Owners and Managers\n\n \n\nAre healthy employees vital to running your business?  Scott Drug would like to hold a flu clinic for you and your employees!  One of our pharmacists will come to your business and vaccinate all of your consenting staff at one time.\n\n \n\nBy providing vaccinations in your workplace\, you will reduce the number of missed work days due to illness\, and your employees will not have to take time off during business hours to visit the doctor's office for their flu shot.  Let us help you maintain better health throughout your business during the upcoming flu season!\n\n \n\nCall Scott Drug and ask Jen or Patti for details at 563-659-5042.
X-ALT-DESC;FMTTYPE=text/html:<div style="text-align:center"><span style="font-family:times new roman"><span style="font-size:16px"><span style="font-size:20px"><strong><span style="font-size:22px">Book Your Flu Clinic NOW!</span></strong></span></span></span></div>\n\n<div style="text-align:center">&nbsp\;</div>\n\n<div style="text-align:center"><span style="font-family:times new roman"><span style="font-size:16px"><strong><span style="font-size:18px">Attention Business Owners and Managers</span></strong></span></span></div>\n\n<div style="text-align:center">&nbsp\;</div>\n\n<div><span style="font-family:times new roman"><span style="font-size:16px">Are healthy employees vital to running your business?&nbsp\; Scott Drug would like to hold a flu clinic for you and your employees!&nbsp\; One of our pharmacists will come to&nbsp\;your business and vaccinate all of your consenting staff at one time.</span></span></div>\n\n<div>&nbsp\;</div>\n\n<div><span style="font-family:times new roman"><span style="font-size:16px">By providing vaccinations in your workplace\, you will reduce the number of missed work days due to illness\, and your employees will not have to take time off during business hours to visit the doctor&#39\;s office for their flu shot.&nbsp\; Let us help you maintain better health throughout your business during the upcoming flu season!</span></span></div>\n\n<div>&nbsp\;</div>\n\n<div><span style="font-family:times new roman"><strong><span style="font-size:16px">Call Scott Drug and ask Jen or Patti for details at 563-659-5042.</span></strong></span></div>\n
LOCATION:Your place of business!
UID:e.1774.1047
SEQUENCE:3
DTSTAMP:20260421T030543Z
URL:https://business.dewittiowa.org/events/details/schedule-a-flu-shot-clinic-for-your-business-10-16-2015-1047
END:VEVENT

END:VCALENDAR
