BEGIN:VCALENDAR
VERSION:2.0
PRODID:-//ChamberMaster//Event Calendar 2.0//EN
METHOD:PUBLISH
X-PUBLISHED-TTL:P3D
REFRESH-INTERVAL:P3D
CALSCALE:GREGORIAN
BEGIN:VEVENT
DTSTART;VALUE=DATE:20160805
DTEND;VALUE=DATE:20160806
TRANSP:TRANSPARENT
X-MICROSOFT-CDO-ALLDAYEVENT:TRUE
SUMMARY:School Supplies Donation Drive
DESCRIPTION:The Referral Center in DeWitt is accepting donations of school supplies to be distributed to families in the Central DeWitt Community School District.  Click Here to find lists of items needed.  Please bring items by August 8th to one of the following drop-off sites:  The Referral Center\, DeWitt Bank & Trust\, First Central State Bank or DeWitt United Methodist Church.
X-ALT-DESC;FMTTYPE=text/html:The Referral Center in DeWitt is accepting donations of school supplies to be distributed to families in the Central DeWitt Community School District. &nbsp\;<a href="http://www.central-csd.org//SiteContent/Documents//student_and_patron_forms//JS-8%20School%20Supply%20Lists.pdf">Click Here</a> to find lists of items needed. &nbsp\;Please bring items by August 8th to one of the following drop-off sites: &nbsp\;The Referral Center\, DeWitt Bank &amp\; Trust\, First Central State Bank or DeWitt United Methodist Church. &nbsp\;<span style="line-height: 20.8px\;">&nbsp\;</span>
LOCATION:The Referral Center 615 8th St. DeWitt\, IA Hours: Mon.-Fri. 8 am-5 pm
UID:e.1774.1514
SEQUENCE:3
DTSTAMP:20260420T104917Z
URL:https://business.dewittiowa.org/events/details/school-supplies-donation-drive-08-05-2016-1514
END:VEVENT

END:VCALENDAR
