BEGIN:VCALENDAR
VERSION:2.0
PRODID:-//ChamberMaster//Event Calendar 2.0//EN
METHOD:PUBLISH
X-PUBLISHED-TTL:P3D
REFRESH-INTERVAL:P3D
CALSCALE:GREGORIAN
BEGIN:VEVENT
DTSTART:20140722T230000Z
DTEND:20140723T010000Z
X-MICROSOFT-CDO-ALLDAYEVENT:FALSE
SUMMARY:School Supply Drive
DESCRIPTION:DeWitt Brownie Troop 7816 will be at Tunes in Town on Tuesday\, July 22nd collecting school supplies for those in need for the upcoming school year. Supplies gathered will be given to the DeWitt Referral Center for distribution. If you are unable to bring school supplies\, monetary donations will be accepted towards the purchase of the supplies.
X-ALT-DESC;FMTTYPE=text/html:DeWitt Brownie Troop 7816 will be at Tunes in Town on Tuesday\, July 22nd collecting school supplies for those in need for the upcoming school year. Supplies gathered will be given to the DeWitt Referral Center for distribution. If you are unable to bring school supplies\, monetary donations will be accepted towards the purchase of the supplies.&nbsp\;
LOCATION:Tunes in Town at Lincoln Park DeWitt
UID:e.1774.113
SEQUENCE:3
DTSTAMP:20260422T010758Z
URL:https://business.dewittiowa.org/events/details/school-supply-drive-07-22-2014-113
END:VEVENT

END:VCALENDAR
