BEGIN:VCALENDAR
VERSION:2.0
PRODID:-//ChamberMaster//Event Calendar 2.0//EN
METHOD:PUBLISH
X-PUBLISHED-TTL:P3D
REFRESH-INTERVAL:P3D
CALSCALE:GREGORIAN
BEGIN:VEVENT
DTSTART;VALUE=DATE:20170817
DTEND;VALUE=DATE:20170818
TRANSP:TRANSPARENT
X-MICROSOFT-CDO-ALLDAYEVENT:TRUE
SUMMARY:School Supply Drive
DESCRIPTION:Please drop off donated school supplies at The Referral Center\, First Central State Bank\, Dewitt Bank and Trust\, IH Mississippi Credit Union\, Barnes\, and local churches. Thanks to your donations last year we helped 138 children with their school supplies.
X-ALT-DESC;FMTTYPE=text/html:Please drop off donated school supplies at The Referral Center\, First Central State Bank\, Dewitt Bank and Trust\, IH Mississippi Credit Union\, Barnes\, and local churches. Thanks to your donations last year we helped 138 children with their school supplies.
LOCATION:The Referral Center
UID:e.1774.3198
SEQUENCE:3
DTSTAMP:20260419T133840Z
URL:https://business.dewittiowa.org/events/details/school-supply-drive-08-17-2017-3198
END:VEVENT

END:VCALENDAR
