BEGIN:VCALENDAR
VERSION:2.0
PRODID:-//ChamberMaster//Event Calendar 2.0//EN
METHOD:PUBLISH
X-PUBLISHED-TTL:P3D
REFRESH-INTERVAL:P3D
CALSCALE:GREGORIAN
BEGIN:VEVENT
DTSTART:20150314T140000Z
DTEND:20150314T200000Z
X-MICROSOFT-CDO-ALLDAYEVENT:FALSE
SUMMARY:Scouting for Food
DESCRIPTION:Cub Scouts\, Boy Scouts\, and Girl Scouts will be going door to door collecting canned food and paper goods to restock the shelves of the Referral & Services Center in DeWitt. Rural residents are encouraged to participate by bringing items to the Referral Center before noon that day.
X-ALT-DESC;FMTTYPE=text/html:Cub Scouts\, Boy Scouts\, and Girl Scouts will be going door to door collecting canned food and paper goods to restock the shelves of the Referral &amp\; Services Center in DeWitt. Rural residents are encouraged to participate by bringing items to the Referral Center before noon that day.
LOCATION:
UID:e.1774.327
SEQUENCE:3
DTSTAMP:20260421T123930Z
URL:https://business.dewittiowa.org/events/details/scouting-for-food-03-14-2015-327
END:VEVENT

END:VCALENDAR
