BEGIN:VCALENDAR
VERSION:2.0
PRODID:-//ChamberMaster//Event Calendar 2.0//EN
METHOD:PUBLISH
X-PUBLISHED-TTL:P3D
REFRESH-INTERVAL:P3D
CALSCALE:GREGORIAN
BEGIN:VEVENT
DTSTART:20160402T140000Z
DTEND:20160402T170000Z
X-MICROSOFT-CDO-ALLDAYEVENT:FALSE
SUMMARY:Scouting for Food
DESCRIPTION:Cub Scouts\, Boy Scouts\, and Girl Scouts will be going door-to-door collecting food donations for the Referral Center.
X-ALT-DESC;FMTTYPE=text/html:Cub Scouts\, Boy Scouts\, and Girl Scouts will be going door-to-door collecting food donations for the Referral Center.
LOCATION:Welton\, Low Moor\, Grand Mound and DeWitt
UID:e.1774.1266
SEQUENCE:3
DTSTAMP:20260420T152442Z
URL:https://business.dewittiowa.org/events/details/scouting-for-food-04-02-2016-1266
END:VEVENT

END:VCALENDAR
