BEGIN:VCALENDAR
VERSION:2.0
PRODID:-//ChamberMaster//Event Calendar 2.0//EN
METHOD:PUBLISH
X-PUBLISHED-TTL:P3D
REFRESH-INTERVAL:P3D
CALSCALE:GREGORIAN
BEGIN:VEVENT
DTSTART:20170318T130000Z
DTEND:20170318T180000Z
X-MICROSOFT-CDO-ALLDAYEVENT:FALSE
SUMMARY:Scouting for Food!
DESCRIPTION:Cub Scouts\, Boy Scouts and Girl Scouts will be going door to door in Welton\, Low Moor\, Grand Mound and DeWitt collecting canned food and paper goods to restock the shelves of the Referral & Services Center in DeWitt.  Rural residents are encouraged to participate by brining items to the Referral Center before noon that day.
X-ALT-DESC;FMTTYPE=text/html:Cub Scouts\, Boy Scouts and Girl Scouts will be going door to door in Welton\, Low Moor\, Grand Mound and DeWitt collecting canned food and paper goods to restock the shelves of the Referral &amp\; Services Center in DeWitt. &nbsp\;Rural residents are encouraged to participate by brining items to the Referral Center before noon that day.
LOCATION:Your front door! Or drop off at the Referral Center before noon.
UID:e.1774.1910
SEQUENCE:3
DTSTAMP:20260419T233808Z
URL:https://business.dewittiowa.org/events/details/scouting-for-food-1910
END:VEVENT

END:VCALENDAR
