BEGIN:VCALENDAR
VERSION:2.0
PRODID:-//ChamberMaster//Event Calendar 2.0//EN
METHOD:PUBLISH
X-PUBLISHED-TTL:P3D
REFRESH-INTERVAL:P3D
CALSCALE:GREGORIAN
BEGIN:VEVENT
DTSTART:20170921T200000Z
DTEND:20170921T230000Z
X-MICROSOFT-CDO-ALLDAYEVENT:FALSE
SUMMARY:Scratch Cupcakery
DESCRIPTION:Those delicious cupcakes will be back to TYCOGA with Scratch Curbside!\n\nGrab your favorites while they last & enjoy your favorite glass of wine or a frozen wine slush!
X-ALT-DESC;FMTTYPE=text/html:Those delicious cupcakes will be back to TYCOGA with Scratch Curbside!<br />\nGrab your favorites while they last &amp\; enjoy your favorite glass of wine or a frozen wine slush!<br />\n&nbsp\;
LOCATION:TYCOGA Vineyard & Winery 2585 195th street Dewitt IA 52742
UID:e.1774.4264
SEQUENCE:3
DTSTAMP:20260419T120252Z
URL:https://business.dewittiowa.org/events/details/scratch-cupcakery-4264
END:VEVENT

END:VCALENDAR
