BEGIN:VCALENDAR
VERSION:2.0
PRODID:-//ChamberMaster//Event Calendar 2.0//EN
METHOD:PUBLISH
X-PUBLISHED-TTL:P3D
REFRESH-INTERVAL:P3D
CALSCALE:GREGORIAN
BEGIN:VEVENT
DTSTART:20170719T190000Z
DTEND:20170719T220000Z
X-MICROSOFT-CDO-ALLDAYEVENT:FALSE
SUMMARY:Scratch Cupcakery Curbside
DESCRIPTION:Scratch Cupcakery curbside will be at TYCOGA. Stop by & grab those delicious cupcakes & enjoy your favorite glass of wine on the patio.
X-ALT-DESC;FMTTYPE=text/html:Scratch Cupcakery curbside will be at TYCOGA. Stop by &amp\; grab those delicious cupcakes &amp\; enjoy your favorite glass of wine on the patio.<br />\n&nbsp\;
LOCATION:TYCOGA Vineyard & Winery 2585 195th Street DeWitt\, IA 52742
UID:e.1774.3158
SEQUENCE:3
DTSTAMP:20260419T150159Z
URL:https://business.dewittiowa.org/events/details/scratch-cupcakery-curbside-3158
END:VEVENT

END:VCALENDAR
