BEGIN:VCALENDAR
VERSION:2.0
PRODID:-//ChamberMaster//Event Calendar 2.0//EN
METHOD:PUBLISH
X-PUBLISHED-TTL:P3D
REFRESH-INTERVAL:P3D
CALSCALE:GREGORIAN
BEGIN:VEVENT
DTSTART:20150708T233000Z
DTEND:20150709T013000Z
X-MICROSOFT-CDO-ALLDAYEVENT:FALSE
SUMMARY:See the movie "The Monuments Men"
DESCRIPTION:See the movie "The Monuments Men" on July 8 and then hear the real story of the Monuments men on Sunday\, July 12 when Nancy Trask\, Director of the Winterset Public Library\, will present historical slides about the Monuments Men\, especially introducing George Stout\, who was born and raised in Winterset. George Clooney's character in "The Monuments Men" movie was based on George Stout.
X-ALT-DESC;FMTTYPE=text/html:See the movie &quot\;The Monuments Men&quot\; on July 8 and then hear the real story of the Monuments men on Sunday\, July 12 when&nbsp\;<span style="line-height: 18.9090900421143px\;">Nancy</span><span style="line-height: 18.9090900421143px\;">&nbsp\;</span>Trask<span style="line-height: 18.9090900421143px\;">\, Director of the&nbsp\;</span>Winterset<span style="line-height: 18.9090900421143px\;">&nbsp\;Public Library\, will present historical slides about the Monuments Men\, especially introducing George Stout\, who was born and raised in&nbsp\;</span>Winterset<span style="line-height: 18.9090900421143px\;">. George Clooney&#39\;s character in &quot\;The Monuments Men&quot\; movie was based on George Stout.</span>
LOCATION:Frances Banta Waggoner Community Library Meeting Room 505 10th St.\, DeWitt
UID:e.1774.909
SEQUENCE:3
DTSTAMP:20260421T061733Z
URL:https://business.dewittiowa.org/events/details/see-the-movie-the-monuments-men-07-08-2015-909
END:VEVENT

END:VCALENDAR
