BEGIN:VCALENDAR
VERSION:2.0
PRODID:-//ChamberMaster//Event Calendar 2.0//EN
METHOD:PUBLISH
X-PUBLISHED-TTL:P3D
REFRESH-INTERVAL:P3D
CALSCALE:GREGORIAN
BEGIN:VEVENT
DTSTART:20170409T130000Z
DTEND:20170409T170000Z
X-MICROSOFT-CDO-ALLDAYEVENT:FALSE
SUMMARY:Senior Citizen Brunch
DESCRIPTION:All area senior citizens are invited for brunch to enjoy a morning of socializing with people in from the community.
X-ALT-DESC;FMTTYPE=text/html:All area senior citizens are invited for brunch to enjoy a morning of socializing with people in from the community.
LOCATION:Saint Joseph Parish Hall
UID:e.1774.1935
SEQUENCE:3
DTSTAMP:20260419T201403Z
URL:https://business.dewittiowa.org/events/details/senior-citizen-brunch-1935
END:VEVENT

END:VCALENDAR
