BEGIN:VCALENDAR
VERSION:2.0
PRODID:-//ChamberMaster//Event Calendar 2.0//EN
METHOD:PUBLISH
X-PUBLISHED-TTL:P3D
REFRESH-INTERVAL:P3D
CALSCALE:GREGORIAN
BEGIN:VEVENT
DTSTART:20161118T000000Z
DTEND:20161118T020000Z
X-MICROSOFT-CDO-ALLDAYEVENT:FALSE
SUMMARY:Sip N' Shop
DESCRIPTION:Come do some Christmas shopping and drink a delicious glass of wine while doing so\n	Lots of vendors & crafters.\n	Wood fired pizza will be cooking until 8pm
X-ALT-DESC;FMTTYPE=text/html:<ul>\n	<li>Come do some Christmas shopping and drink a delicious glass of wine while doing so</li>\n	<li>Lots of vendors &amp\; crafters.</li>\n	<li>Wood fired pizza will be cooking until 8pm</li>\n</ul>\n
LOCATION:TYCOGA Vineyard & Winery 2585 195th Street DeWitt\, IA 52742
UID:e.1774.1689
SEQUENCE:3
DTSTAMP:20260420T043017Z
URL:https://business.dewittiowa.org/events/details/sip-n-shop-1689
END:VEVENT

END:VCALENDAR
