BEGIN:VCALENDAR
VERSION:2.0
PRODID:-//ChamberMaster//Event Calendar 2.0//EN
METHOD:PUBLISH
X-PUBLISHED-TTL:P3D
REFRESH-INTERVAL:P3D
CALSCALE:GREGORIAN
BEGIN:VEVENT
DTSTART:20170322T190000Z
DTEND:20170322T200000Z
X-MICROSOFT-CDO-ALLDAYEVENT:FALSE
SUMMARY:Small Business Start Up Workshop
DESCRIPTION:Learn how to start your own business\, part-time business or home based business. We will help you develop a successful marketing strategy built upon best practices.  Free one-on-one counseling will also be available for those who are interested.
X-ALT-DESC;FMTTYPE=text/html:Learn how to start your own business\, part-time business or home based business. We will help you develop a successful marketing strategy built upon best practices. &nbsp\;Free one-on-one counseling will also be available for those who are interested.<br />\n<br />\n&nbsp\;
LOCATION:Clinton Community College 1951 Manufacturing Drive\, Room 10 Clinton\, IA
UID:e.1774.1914
SEQUENCE:3
DTSTAMP:20260419T220656Z
URL:https://business.dewittiowa.org/events/details/small-business-start-up-workshop-03-22-2017-1914
END:VEVENT

END:VCALENDAR
