BEGIN:VCALENDAR
VERSION:2.0
PRODID:-//ChamberMaster//Event Calendar 2.0//EN
METHOD:PUBLISH
X-PUBLISHED-TTL:P3D
REFRESH-INTERVAL:P3D
CALSCALE:GREGORIAN
BEGIN:VEVENT
DTSTART:20170329T190000Z
DTEND:20170329T200000Z
X-MICROSOFT-CDO-ALLDAYEVENT:FALSE
SUMMARY:Small Business Start Up Workshop
DESCRIPTION:Learn how to start your own business\, part-time business or home based business. We will help you develop a successful marketing strategy built upon best practices.  Free one-on-one counseling will als be available for those who are interested.
X-ALT-DESC;FMTTYPE=text/html:Learn how to start your own business\, part-time business or home based business. We will help you develop a successful marketing strategy built upon best practices. &nbsp\;Free one-on-one counseling will als be available for those who are interested.
LOCATION:Clinton Community College Maquoketa Campus\, Fagerland Room 501 W Washington St. Maquoketa\, IA
UID:e.1774.1912
SEQUENCE:3
DTSTAMP:20260419T233808Z
URL:https://business.dewittiowa.org/events/details/small-business-start-up-workshop-1912
END:VEVENT

END:VCALENDAR
