BEGIN:VCALENDAR
VERSION:2.0
PRODID:-//ChamberMaster//Event Calendar 2.0//EN
METHOD:PUBLISH
X-PUBLISHED-TTL:P3D
REFRESH-INTERVAL:P3D
CALSCALE:GREGORIAN
BEGIN:VEVENT
DTSTART:20160324T133000Z
DTEND:20160324T143000Z
X-MICROSOFT-CDO-ALLDAYEVENT:FALSE
SUMMARY:Social Media Strategies that Drive Results
DESCRIPTION:74% of all U.S. adults actively use social media.If your business is not using social media\, you are leaving sales opportunities on the table!\n\n\n\nTAG can help you get started! Join the Social Media experts at TAG for a free informational session\, to learn more about how your brand can can thrive through effective Social Media marketing strategies.\n\n\n\nJoin us on Thursday\, March 24\, from 8:30 a.m.   9: 30 a.m. at the DeWitt Chamber & Development Co. office for coffee and doughnuts to talk with our experts about creating a social media strategy for your business that creates results!
X-ALT-DESC;FMTTYPE=text/html:74% of all U.S. adults actively use social media.If your business is not using social media\, you&nbsp\;are leaving sales opportunities on the table!<br />\n<br />\n<strong>TAG can help you get started! </strong>Join the Social Media experts at TAG for a free&nbsp\;informational session\, to learn more about how your brand can can thrive through effective Social Media marketing strategies.<br />\n<br />\nJoin us on Thursday\, March 24\, from 8:30 a.m. &ndash\; 9: 30 a.m. at the DeWitt Chamber &amp\; Development Co. office for <strong>coffee&nbsp\;and doughnuts</strong> to talk with our experts about&nbsp\;creating a social media strategy for your business that creates results!
LOCATION:DeWitt Chamber & Development Co. Office 1010 6th Ave. DeWitt\, IA
UID:e.1774.1254
SEQUENCE:3
DTSTAMP:20260420T171527Z
URL:https://business.dewittiowa.org/events/details/social-media-strategies-that-drive-results-03-24-2016-1254
END:VEVENT

END:VCALENDAR
