BEGIN:VCALENDAR
VERSION:2.0
PRODID:-//ChamberMaster//Event Calendar 2.0//EN
METHOD:PUBLISH
X-PUBLISHED-TTL:P3D
REFRESH-INTERVAL:P3D
CALSCALE:GREGORIAN
BEGIN:VEVENT
DTSTART:20160712T210000Z
DTEND:20160713T010000Z
X-MICROSOFT-CDO-ALLDAYEVENT:FALSE
SUMMARY:Softball Fundraiser - DeWitt Danger 10U
DESCRIPTION:As State 10u Softball Champions\, the DeWitt Danger team has been invited to the National Softball Tournament in Kansas City\, Missouri July 20th through July 23rd. To assist with tournament fees\, a team banner\, hotel and food expenses\, they are hosting a fundraiser at Pizza Hut July 12th. Pizza Hut will donate to the team a portion of the proceeds from DINE IN sales that evening. If you plan on having dinner that evening\, consider coming to Pizza Hut to support the girls!
X-ALT-DESC;FMTTYPE=text/html:As State 10u Softball Champions\, the DeWitt Danger team has been invited to the National Softball Tournament in Kansas City\, Missouri July 20th through July 23rd. To assist with tournament fees\, a team banner\, hotel and food expenses\, they are hosting a fundraiser at Pizza Hut July 12th. Pizza Hut will donate to the team a portion of the proceeds from DINE IN sales that evening. If you plan on having dinner that evening\, consider coming to Pizza Hut to support the girls!
LOCATION:Pizza Hut
UID:e.1774.1496
SEQUENCE:3
DTSTAMP:20260420T104756Z
URL:https://business.dewittiowa.org/events/details/softball-fundraiser-dewitt-danger-10u-07-12-2016-1496
END:VEVENT

END:VCALENDAR
