BEGIN:VCALENDAR
VERSION:2.0
PRODID:-//ChamberMaster//Event Calendar 2.0//EN
METHOD:PUBLISH
X-PUBLISHED-TTL:P3D
REFRESH-INTERVAL:P3D
CALSCALE:GREGORIAN
BEGIN:VEVENT
DTSTART:20150311T160000Z
DTEND:20150311T180000Z
X-MICROSOFT-CDO-ALLDAYEVENT:FALSE
SUMMARY:Soup\, Sandwich\, Dessert Luncheon
DESCRIPTION:Annual Soup\, Sandwich\, Dessert Luncheon. Come and enjoy! Carry outs & delivery available
X-ALT-DESC;FMTTYPE=text/html:Annual Soup\, Sandwich\, Dessert Luncheon. Come and enjoy! Carry outs &amp\; delivery available
LOCATION:First Congregational United Church of Christ 520 E. 11th St. DeWitt
UID:e.1774.288
SEQUENCE:3
DTSTAMP:20260421T142440Z
URL:https://business.dewittiowa.org/events/details/soup-sandwich-dessert-luncheon-03-11-2015-288
END:VEVENT

END:VCALENDAR
