BEGIN:VCALENDAR
VERSION:2.0
PRODID:-//ChamberMaster//Event Calendar 2.0//EN
METHOD:PUBLISH
X-PUBLISHED-TTL:P3D
REFRESH-INTERVAL:P3D
CALSCALE:GREGORIAN
BEGIN:VEVENT
DTSTART:20150411T150000Z
DTEND:20150411T180000Z
X-MICROSOFT-CDO-ALLDAYEVENT:FALSE
SUMMARY:Spring Breeze Bazaar
DESCRIPTION:Country Store: Baked Goods\, Crafts\, Cards/Napkins Luncheon Menu: Hot Chicken Salad\, Fruit and Vegetable Salads\, Croissants\, Pies
X-ALT-DESC;FMTTYPE=text/html:Country Store: Baked Goods\, Crafts\, Cards/Napkins Luncheon Menu: Hot Chicken Salad\, Fruit and Vegetable Salads\, Croissants\, Pies
LOCATION:Grace Lutheran Church 415 10th St. DeWitt
UID:e.1774.342
SEQUENCE:3
DTSTAMP:20260421T123700Z
URL:https://business.dewittiowa.org/events/details/spring-breeze-bazaar-04-11-2015-342
END:VEVENT

END:VCALENDAR
