BEGIN:VCALENDAR
VERSION:2.0
PRODID:-//ChamberMaster//Event Calendar 2.0//EN
METHOD:PUBLISH
X-PUBLISHED-TTL:P3D
REFRESH-INTERVAL:P3D
CALSCALE:GREGORIAN
BEGIN:VEVENT
DTSTART:20170318T150000Z
DTEND:20170318T190000Z
X-MICROSOFT-CDO-ALLDAYEVENT:FALSE
SUMMARY:Spring Fever Craft and Vendor Show
DESCRIPTION:Come Join us for our Spring Fever Craft and Vendor Show at the DeWitt Community Center! We have over 20 Crafters and Vendors\, Free Admission\, and Vendor Giveaways!
X-ALT-DESC;FMTTYPE=text/html:Come Join us for our Spring Fever Craft and Vendor Show at the DeWitt Community Center! We have over 20 Crafters and Vendors\, Free Admission\, and Vendor Giveaways!
LOCATION:DeWitt Community Center
UID:e.1774.1896
SEQUENCE:3
DTSTAMP:20260419T221208Z
URL:https://business.dewittiowa.org/events/details/spring-fever-craft-and-vendor-show-1896
END:VEVENT

END:VCALENDAR
