BEGIN:VCALENDAR
VERSION:2.0
PRODID:-//ChamberMaster//Event Calendar 2.0//EN
METHOD:PUBLISH
X-PUBLISHED-TTL:P3D
REFRESH-INTERVAL:P3D
CALSCALE:GREGORIAN
BEGIN:VEVENT
DTSTART:20140607T000000Z
DTEND:20140607T020000Z
X-MICROSOFT-CDO-ALLDAYEVENT:FALSE
SUMMARY:Spring Music Festival
DESCRIPTION:Local ensemble Bella Canta is hosting a spring music festival highlighting several area musicians. Event held at the United Church of Christ in DeWitt. No admission charge- free will donation.
X-ALT-DESC;FMTTYPE=text/html:Local ensemble Bella Canta is hosting a spring music festival highlighting several area musicians. Event held at the United Church of Christ in DeWitt. No admission charge- free will donation.
LOCATION:United Church of Christ DeWitt\, Iowa
UID:e.1774.68
SEQUENCE:3
DTSTAMP:20260422T042057Z
URL:https://business.dewittiowa.org/events/details/spring-music-festival-06-06-2014-68
END:VEVENT

END:VCALENDAR
