BEGIN:VCALENDAR
VERSION:2.0
PRODID:-//ChamberMaster//Event Calendar 2.0//EN
METHOD:PUBLISH
X-PUBLISHED-TTL:P3D
REFRESH-INTERVAL:P3D
CALSCALE:GREGORIAN
BEGIN:VEVENT
DTSTART:20150614T153000Z
DTEND:20150614T173000Z
X-MICROSOFT-CDO-ALLDAYEVENT:FALSE
SUMMARY:Springbrook Brunch - Open to the Public
DESCRIPTION:Springbrook Brunch\n\nOpen to the Public\n\nSunday\, June 14\, 2015\n10:30   12:30pm\n\n \n\nFresh Fruit\n\n \n\nAssorted Salads\n\n \n\nAssorted Danish\n\n \n\nFresh Waffles\, assorted toppings\n\n \n\nSausage\n\n \n\nApple Wood Smoked Bacon\n\n \n\nButtermilk Biscuits & Sausage Gravy\n\n \n\nScrambled Eggs\n\n \n\nBreakfast Potatoes\n\n \n\nFresh Fish-Chef's Choice\n\n \n\nEntree Du Jour- Chef's Choice\n\n \n\nFresh Seasonal Vegetables\n\n \n\nWild Rice Pilaf\n\n \n\nCarved Ham\n\n \n\nAssorted Desserts\n\n \n\n$17.00 per person +tax and gratuity\n\n$7.00 per child 5   10 years old\n\nFree child under 5 years old\n\nReservations strongly recommended.\n\nPlease call 659-3187
X-ALT-DESC;FMTTYPE=text/html:<span style="font-family:candara"><span style="font-size:22pt"><span style="color:rgb(30\, 25\, 13)">Springbrook Brunch</span></span></span><br />\n<span style="font-size:16pt"><span style="color:red"><span style="font-family:candara">Open to the Public</span></span></span>\n\n<h1 style="text-align: center\;"><span style="font-size:22pt"><span style="color:rgb(0\, 112\, 192)"><strong><span style="font-family:candara">Sunday\, June 14\, 2015</span></strong></span></span></h1>\n<span style="font-size:14pt"><span style="font-family:candara"><span style="color:rgb(38\, 38\, 38)">10:30 &ndash\; 12:30pm</span></span></span><br />\n&nbsp\;<br />\n<span style="font-size:medium"><span style="font-family:candara">Fresh Fruit</span></span><br />\n&nbsp\;<br />\n<span style="font-size:medium"><span style="font-family:candara">Assorted Salads</span></span><br />\n&nbsp\;<br />\n<span style="font-size:medium"><span style="font-family:candara">Assorted Danish</span></span><br />\n&nbsp\;<br />\n<span style="font-size:medium"><span style="font-family:candara">Fresh Waffles\, assorted toppings</span></span><br />\n&nbsp\;<br />\n<span style="font-size:medium"><span style="font-family:candara">Sausage</span></span><br />\n&nbsp\;<br />\n<span style="font-size:medium"><span style="font-family:candara">Apple Wood Smoked Bacon</span></span><br />\n&nbsp\;<br />\n<span style="font-size:medium"><span style="font-family:candara">Buttermilk Biscuits &amp\; Sausage Gravy</span></span><br />\n&nbsp\;<br />\n<span style="font-size:medium"><span style="font-family:candara">Scrambled Eggs</span></span><br />\n&nbsp\;<br />\n<span style="font-size:medium"><span style="font-family:candara">Breakfast Potatoes</span></span><br />\n&nbsp\;<br />\n<span style="font-size:medium"><span style="font-family:candara">Fresh Fish-Chef&rsquo\;s Choice</span></span><br />\n&nbsp\;<br />\n<span style="font-size:medium"><span style="font-family:candara">Entree Du Jour- Chef&rsquo\;s Choice</span></span><br />\n&nbsp\;<br />\n<span style="font-size:medium"><span style="font-family:candara">Fresh Seasonal Vegetables</span></span><br />\n&nbsp\;<br />\n<span style="font-size:medium"><span style="font-family:candara">Wild Rice Pilaf</span></span><br />\n&nbsp\;<br />\n<span style="font-size:medium"><span style="font-family:candara">Carved Ham</span></span><br />\n&nbsp\;<br />\n<span style="font-size:medium"><span style="font-family:candara">Assorted Desserts</span></span><br />\n&nbsp\;<br />\n<span style="font-size:medium"><span style="font-family:candara">$17.00 per person +tax and gratuity</span></span><br />\n<span style="font-size:medium"><span style="font-family:candara">$7.00 per child 5 &ndash\; 10 years old</span></span><br />\n<span style="font-size:medium"><span style="font-family:candara">Free child under 5 years old</span></span><br />\n<span style="font-size:medium"><span style="font-family:candara">Reservations strongly recommended.</span></span><br />\n<span style="font-size:medium"><span style="font-family:candara">Please call 659-3187</span></span><br />\n&nbsp\;
LOCATION:Springbrook Country Club 2122 17th Avenue
UID:e.1774.896
SEQUENCE:3
DTSTAMP:20260421T093258Z
URL:https://business.dewittiowa.org/events/details/springbrook-brunch-open-to-the-public-06-14-2015-896
END:VEVENT

END:VCALENDAR
