BEGIN:VCALENDAR
VERSION:2.0
PRODID:-//ChamberMaster//Event Calendar 2.0//EN
METHOD:PUBLISH
X-PUBLISHED-TTL:P3D
REFRESH-INTERVAL:P3D
CALSCALE:GREGORIAN
BEGIN:VEVENT
DTSTART:20160305T000000Z
DTEND:20160305T050000Z
X-MICROSOFT-CDO-ALLDAYEVENT:FALSE
SUMMARY:Springbrook Country Club Opening Night with Live Music. Open to the Public!
DESCRIPTION:Springbrook Country Club Opening Night with Live Music. March 4th \n\n\n\nOpen to the Public!\n\n\n\nBuffet served 6:00   8:00pm. \n\n \n\nTossed Salad with assorted dressings\, Rolls\, Roasted Vegetable Platter\, Pita Chips with Red pepper Hummus\, Green beans with bacon and onion\, Cabbage and carrots\, Lyonnaise Potatoes\, Wild Mushroom and Spinach Risotto\, Roasted Cod Lemon Tomato Broth\, Chicken Kiev\, Steamship Round of Corned Beef-Horseradish Sauce-Stone ground mustard \, Chef's Assorted Dessert Table\n\n \n\n$20.00/person (plus tax and gratuity)\n\nPlease let the Club know if you will be attending for planning purposes. Call Today: 563.659.3187\n\n\n\nClick here for the complete 2016 Springbrook Live Music Line-up! Music provided by the Froeschle Agency\, DeWitt\, Iowa\n\nOpen to the Public at No Charge!
X-ALT-DESC;FMTTYPE=text/html:<p><span style="font-size:13.5pt">Springbrook Country Club Opening Night with Live Music. March 4th&nbsp\;<br />\n<br />\nOpen to the Public!<br />\n<br />\nBuffet served 6:00 &ndash\; 8:00pm. </span></p>\n\n<p>&nbsp\;</p>\n\n<p>Tossed Salad with assorted dressings\, Rolls\, Roasted Vegetable Platter\, Pita Chips with Red pepper Hummus\, Green beans with bacon and onion\, Cabbage and carrots\, Lyonnaise Potatoes\, Wild Mushroom and Spinach Risotto\, Roasted Cod Lemon Tomato Broth\, Chicken Kiev\, Steamship Round of Corned Beef-Horseradish Sauce-Stone ground mustard \, Chef&#39\;s Assorted Dessert Table</p>\n\n<p>&nbsp\;</p>\n\n<p>$20.00/person (plus tax and gratuity)</p>\n\n<p>Please let the Club know if you will be attending for planning purposes. Call Today: 563.659.3187<br />\n<br />\n<span style="font-size:18px\;"><a href="https://chambermaster.blob.core.windows.net/userfiles/UserFiles/chambers/1774/File/2016Springbrookmusiclineup.pdf">Click here</a> for the&nbsp\;complete&nbsp\;2016 Springbrook&nbsp\;Live&nbsp\;Music Line-up! Music&nbsp\;provided by the&nbsp\;Froeschle&nbsp\;Agency\, DeWitt\, Iowa<br style="line-height: 20.8px\;" />\nOpen to the Public at No Charge!</span></p>\n
LOCATION:Springbrook Country Club DeWitt\, IA
UID:e.1774.1246
SEQUENCE:3
DTSTAMP:20260420T184137Z
URL:https://business.dewittiowa.org/events/details/springbrook-country-club-opening-night-with-live-music-open-to-the-public-03-04-2016-1246
END:VEVENT

END:VCALENDAR
