BEGIN:VCALENDAR
VERSION:2.0
PRODID:-//ChamberMaster//Event Calendar 2.0//EN
METHOD:PUBLISH
X-PUBLISHED-TTL:P3D
REFRESH-INTERVAL:P3D
CALSCALE:GREGORIAN
BEGIN:VEVENT
DTSTART:20170429T163000Z
DTEND:20170429T200000Z
X-MICROSOFT-CDO-ALLDAYEVENT:FALSE
SUMMARY:St. Baldrick's Clinton County
DESCRIPTION:St. Baldrick's Clinton County is a volunteer-driven charity dedicated to raising money for childhood cancer research. Shavees register to shave their head and raise funds for childhood cancer research. It is at the event where the shaving of the heads takes place. This symbolizes a walk in solidarity with kids who lose their hair going through treatment. There will be food vendors\, music\, kids' activities\, a bake sale and silent auction. Organizers encourage attendees to bring a lawn chair\, tailgate and be a part of this moving event. Since starting the event in 2011\, St. Baldrick's of Clinton County has raised over $175\,000 to support the development of childhood cancer treatments and research throughout the state of Iowa\, directly impacting children in our community.
X-ALT-DESC;FMTTYPE=text/html:St. Baldrick&#39\;s Clinton County is a volunteer-driven charity dedicated to raising money for childhood cancer research. Shavees register to shave their head and raise funds for childhood cancer research. It is at the event where the shaving of the heads takes place. This symbolizes a walk in solidarity with kids who lose their hair going through treatment. There will be food vendors\, music\, kids&rsquo\; activities\, a bake sale and silent auction. Organizers encourage attendees to bring a lawn chair\, tailgate and be a part of this moving event. Since starting the event in 2011\, St. Baldrick&rsquo\;s of Clinton County has raised over $175\,000 to support the development of childhood cancer treatments and research throughout the state of Iowa\, directly impacting children in our community.
LOCATION:Lincoln Park Band Shell
UID:e.1774.1883
SEQUENCE:3
DTSTAMP:20260419T201430Z
URL:https://business.dewittiowa.org/events/details/st-baldrick-s-clinton-county-1883
END:VEVENT

END:VCALENDAR
