BEGIN:VCALENDAR
VERSION:2.0
PRODID:-//ChamberMaster//Event Calendar 2.0//EN
METHOD:PUBLISH
X-PUBLISHED-TTL:P3D
REFRESH-INTERVAL:P3D
CALSCALE:GREGORIAN
BEGIN:VEVENT
DTSTART;VALUE=DATE:20150314
DTEND;VALUE=DATE:20150315
TRANSP:TRANSPARENT
X-MICROSOFT-CDO-ALLDAYEVENT:TRUE
SUMMARY:St. Baldrick's Head Shaving Event
DESCRIPTION:The 5th Annual DeWitt "Just Irish Enough" Head Shaving Event WE ARE SEEKING SHAVEES! *Sign Up online at www.stbaldricks.org/events/mypage/5580/2015 All proceeds benefit childhood cancer research via the St Baldrick's Foundation.
X-ALT-DESC;FMTTYPE=text/html:The 5th Annual DeWitt &quot\;Just Irish Enough&quot\; Head Shaving Event WE ARE SEEKING SHAVEES! *Sign Up online at <a href="http://www.stbaldricks.org/events/mypage/5580/2015">www.stbaldricks.org/events/mypage/5580/2015</a> All proceeds benefit childhood cancer research via the St Baldrick&#39\;s Foundation.
LOCATION:DeWitt Community Center & Lincoln Park in DeWitt
UID:e.1774.321
SEQUENCE:3
DTSTAMP:20260421T124209Z
URL:https://business.dewittiowa.org/events/details/st-baldrick-s-head-shaving-event-03-14-2015-321
END:VEVENT

END:VCALENDAR
