BEGIN:VCALENDAR
VERSION:2.0
PRODID:-//ChamberMaster//Event Calendar 2.0//EN
METHOD:PUBLISH
X-PUBLISHED-TTL:P3D
REFRESH-INTERVAL:P3D
CALSCALE:GREGORIAN
BEGIN:VEVENT
DTSTART:20151125T143000Z
DTEND:20151125T170000Z
X-MICROSOFT-CDO-ALLDAYEVENT:FALSE
SUMMARY:St. Joe's Thanksgiving Bake Sale
DESCRIPTION:Thanksgiving Bake Sale
X-ALT-DESC;FMTTYPE=text/html:Thanksgiving Bake Sale
LOCATION:DeWitt Bank & Trust Lobby
UID:e.1774.1115
SEQUENCE:3
DTSTAMP:20260421T013021Z
URL:https://business.dewittiowa.org/events/details/st-joe-s-thanksgiving-bake-sale-11-25-2015-1115
END:VEVENT

END:VCALENDAR
