BEGIN:VCALENDAR
VERSION:2.0
PRODID:-//ChamberMaster//Event Calendar 2.0//EN
METHOD:PUBLISH
X-PUBLISHED-TTL:P3D
REFRESH-INTERVAL:P3D
CALSCALE:GREGORIAN
BEGIN:VEVENT
DTSTART:20150920T200000Z
DTEND:20150921T000000Z
X-MICROSOFT-CDO-ALLDAYEVENT:FALSE
SUMMARY:St. Joesph Fall Festival
DESCRIPTION:Beef and Pork Dinner. Carryout available. Adults $10.00\, Children 6-12 $5.00
X-ALT-DESC;FMTTYPE=text/html:Beef and Pork Dinner. Carryout available. Adults $10.00\, Children 6-12 $5.00
LOCATION:St. Joseph Church 417 6th Ave. DeWitt
UID:e.1774.1012
SEQUENCE:3
DTSTAMP:20260421T030159Z
URL:https://business.dewittiowa.org/events/details/st-joesph-fall-festival-09-20-2015-1012
END:VEVENT

END:VCALENDAR
