BEGIN:VCALENDAR
VERSION:2.0
PRODID:-//ChamberMaster//Event Calendar 2.0//EN
METHOD:PUBLISH
X-PUBLISHED-TTL:P3D
REFRESH-INTERVAL:P3D
CALSCALE:GREGORIAN
BEGIN:VEVENT
DTSTART:20160918T200000Z
DTEND:20160919T000000Z
X-MICROSOFT-CDO-ALLDAYEVENT:FALSE
SUMMARY:St. Joseph Church Fall Festival
DESCRIPTION:Beef & Pork Dinner Adults $10 Children 6-12 yrs $5 Carry Outs Available Huge Silent Auction\, Raffle\, Farmer's Market\, Kids Games
X-ALT-DESC;FMTTYPE=text/html:Beef &amp\; Pork Dinner Adults $10 Children 6-12 yrs $5 Carry Outs Available Huge Silent Auction\, Raffle\, Farmer&#39\;s Market\, Kids Games
LOCATION:417 6th Avenue\, DeWitt\, Iowa
UID:e.1774.1531
SEQUENCE:3
DTSTAMP:20260420T074205Z
URL:https://business.dewittiowa.org/events/details/st-joseph-church-fall-festival-09-18-2016-1531
END:VEVENT

END:VCALENDAR
