BEGIN:VCALENDAR
VERSION:2.0
PRODID:-//ChamberMaster//Event Calendar 2.0//EN
METHOD:PUBLISH
X-PUBLISHED-TTL:P3D
REFRESH-INTERVAL:P3D
CALSCALE:GREGORIAN
BEGIN:VEVENT
DTSTART:20170917T200000Z
DTEND:20170918T000000Z
X-MICROSOFT-CDO-ALLDAYEVENT:FALSE
SUMMARY:St. Joseph Church Fall Festival
DESCRIPTION:St. Joseph Catholic Church Annual Fall Festival to be held on Sunday\, September 17 from 3 to 7. Enjoy a Beef & Pork Dinner with all the fixings in Harness Hall. A huge Silent Auction held in the Gathering Space. Kid's games\, bounce house\, obstacle course\, Farmer's Market and Bake Sale. Carry Outs are also available. Delivery to homebound. Great fun for all ages!
X-ALT-DESC;FMTTYPE=text/html:St. Joseph Catholic Church Annual Fall Festival to be held on Sunday\, September 17 from 3 to 7. Enjoy a Beef &amp\; Pork Dinner with all the fixings in Harness Hall. A huge Silent Auction held in the Gathering Space. Kid&#39\;s games\, bounce house\, obstacle course\, Farmer&#39\;s Market and Bake Sale. Carry Outs are also available. Delivery to homebound. Great fun for all ages!
LOCATION:417 6th Avenue in DeWitt\, Iowa
UID:e.1774.4241
SEQUENCE:3
DTSTAMP:20260419T121244Z
URL:https://business.dewittiowa.org/events/details/st-joseph-church-fall-festival-4241
END:VEVENT

END:VCALENDAR
