BEGIN:VCALENDAR
VERSION:2.0
PRODID:-//ChamberMaster//Event Calendar 2.0//EN
METHOD:PUBLISH
X-PUBLISHED-TTL:P3D
REFRESH-INTERVAL:P3D
CALSCALE:GREGORIAN
BEGIN:VEVENT
DTSTART:20160427T160000Z
DTEND:20160427T180000Z
X-MICROSOFT-CDO-ALLDAYEVENT:FALSE
SUMMARY:St. Joseph Church Salad Luncheon
DESCRIPTION:Altar & Rosary Salad Luncheon. Menu includes a Hot Beef Sandwich\, Salads\, Dessert & Beverage. For a carry out call 659-3514 by 10:30 am on April 27.
X-ALT-DESC;FMTTYPE=text/html:Altar &amp\; Rosary Salad Luncheon. Menu includes a Hot Beef Sandwich\, Salads\, Dessert &amp\; Beverage. For a carry out call 659-3514 by 10:30 am on April 27.
LOCATION:St. Joseph Church Harness Hall 17 6th Ave. DeWitt\, IA 52742
UID:e.1774.1306
SEQUENCE:3
DTSTAMP:20260420T171224Z
URL:https://business.dewittiowa.org/events/details/st-joseph-church-salad-luncheon-04-27-2016-1306
END:VEVENT

END:VCALENDAR
