BEGIN:VCALENDAR
VERSION:2.0
PRODID:-//ChamberMaster//Event Calendar 2.0//EN
METHOD:PUBLISH
X-PUBLISHED-TTL:P3D
REFRESH-INTERVAL:P3D
CALSCALE:GREGORIAN
BEGIN:VEVENT
DTSTART:20170426T160000Z
DTEND:20170426T180000Z
X-MICROSOFT-CDO-ALLDAYEVENT:FALSE
SUMMARY:St. Joseph Church Salad Luncheon
DESCRIPTION:Menu includes a hot beef sandwich\, salads\, dessert & beverage. For a carry out call 563-659-3514.
X-ALT-DESC;FMTTYPE=text/html:Menu includes a hot beef sandwich\, salads\, dessert &amp\; beverage. For a carry out call 563-659-3514.
LOCATION:417 6th Avenue DeWitt
UID:e.1774.2949
SEQUENCE:3
DTSTAMP:20260419T220430Z
URL:https://business.dewittiowa.org/events/details/st-joseph-church-salad-luncheon-2949
END:VEVENT

END:VCALENDAR
