BEGIN:VCALENDAR
VERSION:2.0
PRODID:-//ChamberMaster//Event Calendar 2.0//EN
METHOD:PUBLISH
X-PUBLISHED-TTL:P3D
REFRESH-INTERVAL:P3D
CALSCALE:GREGORIAN
BEGIN:VEVENT
DTSTART:20140423T160000Z
DTEND:20140423T180000Z
X-MICROSOFT-CDO-ALLDAYEVENT:FALSE
SUMMARY:St. Joseph's Church Salad Luncheon
DESCRIPTION:All Salad Luncheon\n\nDessert & Beverage\n\n\n\nCarry Outs Available
X-ALT-DESC;FMTTYPE=text/html:All Salad Luncheon<br />\nDessert &amp\; Beverage<br />\n<br />\nCarry Outs Available
LOCATION:St. Joseph's Church-Harness Hall 417 6th Ave.\, DeWitt
UID:e.1774.29
SEQUENCE:3
DTSTAMP:20260422T074104Z
URL:https://business.dewittiowa.org/events/details/st-joseph-s-church-salad-luncheon-04-23-2014-29
END:VEVENT

END:VCALENDAR
