BEGIN:VCALENDAR
VERSION:2.0
PRODID:-//ChamberMaster//Event Calendar 2.0//EN
METHOD:PUBLISH
X-PUBLISHED-TTL:P3D
REFRESH-INTERVAL:P3D
CALSCALE:GREGORIAN
BEGIN:VEVENT
DTSTART:20150710T170000Z
DTEND:20150710T170000Z
X-MICROSOFT-CDO-ALLDAYEVENT:FALSE
SUMMARY:St. Joseph's Home & School Golf Outing
DESCRIPTION:18 hole best ball golf tournament & steak dinner All proceeds will go to St. Joseph's School
X-ALT-DESC;FMTTYPE=text/html:18 hole best ball golf tournament &amp\; steak dinner All proceeds will go to St. Joseph&#39\;s School
LOCATION:Springbrook Country Club
UID:e.1774.903
SEQUENCE:3
DTSTAMP:20260421T075532Z
URL:https://business.dewittiowa.org/events/details/st-joseph-s-home-school-golf-outing-07-10-2015-903
END:VEVENT

END:VCALENDAR
