BEGIN:VCALENDAR
VERSION:2.0
PRODID:-//ChamberMaster//Event Calendar 2.0//EN
METHOD:PUBLISH
X-PUBLISHED-TTL:P3D
REFRESH-INTERVAL:P3D
CALSCALE:GREGORIAN
BEGIN:VEVENT
DTSTART:20150328T223000Z
DTEND:20150329T030000Z
X-MICROSOFT-CDO-ALLDAYEVENT:FALSE
SUMMARY:St. Joseph's Home & School Trivia Night
DESCRIPTION:Support St. Joseph's Home & School Association by participating in the annual Trivia Night at Buzzy's in Welton. On Saturday\, March 28th\, enjoy an evening with friends and competitive trivia. The night begins with dinner at 5:30pm and trivia starting at 7:00pm. Register your team of 8 by contacting Tom McManus at (563) 940-3288 or tommytime98@hotmail.com. Teams cost $10/person or $80/table. Register early as teams are filling up fast. (Dinner and drinks additional cost. Payment due at the event.) If you want to participate but don't have a full team\, contact us to be paired with other individuals/groups. 10 rounds of trivia\, 10 questions per round...and TONS of fun!! All proceeds benefit St. Joe's Home & School Association.
X-ALT-DESC;FMTTYPE=text/html:Support St. Joseph&#39\;s Home &amp\; School Association by participating in the annual Trivia Night at Buzzy&#39\;s in Welton. On Saturday\, March 28th\, enjoy an evening with friends and competitive trivia. The night begins with dinner at 5:30pm and trivia starting at 7:00pm. Register your team of 8 by contacting Tom McManus at (563) 940-3288 or tommytime98@hotmail.com. Teams cost $10/person or $80/table. Register early as teams are filling up fast. (Dinner and drinks additional cost. Payment due at the event.) If you want to participate but don&#39\;t have a full team\, contact us to be paired with other individuals/groups. 10 rounds of trivia\, 10 questions per round...and TONS of fun!! All proceeds benefit St. Joe&#39\;s Home &amp\; School Association.
LOCATION:Buzzy's in Welton
UID:e.1774.326
SEQUENCE:3
DTSTAMP:20260421T124241Z
URL:https://business.dewittiowa.org/events/details/st-joseph-s-home-school-trivia-night-03-28-2015-326
END:VEVENT

END:VCALENDAR
