BEGIN:VCALENDAR
VERSION:2.0
PRODID:-//ChamberMaster//Event Calendar 2.0//EN
METHOD:PUBLISH
X-PUBLISHED-TTL:P3D
REFRESH-INTERVAL:P3D
CALSCALE:GREGORIAN
BEGIN:VEVENT
DTSTART:20141016T230000Z
DTEND:20141017T000000Z
X-MICROSOFT-CDO-ALLDAYEVENT:FALSE
SUMMARY:Stand up for your Community
DESCRIPTION:Community Listening Post. Hear directly from the minds of citizens and professionals when it comes to illegal drug activity impacting our community. Open to the public
X-ALT-DESC;FMTTYPE=text/html:Community Listening Post. Hear directly from the minds of citizens and professionals when it comes to illegal drug activity impacting our community. Open to the public
LOCATION:St. Joseph's De Witt (Harness Hall) 417 6th Ave
UID:e.1774.204
SEQUENCE:3
DTSTAMP:20260421T220349Z
URL:https://business.dewittiowa.org/events/details/stand-up-for-your-community-10-16-2014-204
END:VEVENT

END:VCALENDAR
