BEGIN:VCALENDAR
VERSION:2.0
PRODID:-//ChamberMaster//Event Calendar 2.0//EN
METHOD:PUBLISH
X-PUBLISHED-TTL:P3D
REFRESH-INTERVAL:P3D
CALSCALE:GREGORIAN
BEGIN:VEVENT
DTSTART:20150411T153000Z
DTEND:20150411T170000Z
X-MICROSOFT-CDO-ALLDAYEVENT:FALSE
SUMMARY:State Association for the Preservation of Iowa Cemeteries
DESCRIPTION:Members of pioneer cemetery commissions from across the state will meet to discuss care and preservation of Iowa cemeteries
X-ALT-DESC;FMTTYPE=text/html:Members of pioneer cemetery commissions from across the state will meet to discuss care and preservation of Iowa cemeteries
LOCATION:Central Community Historical Society Museum\, 628 Sixth Ave.\, DeWitt
UID:e.1774.339
SEQUENCE:3
DTSTAMP:20260421T112745Z
URL:https://business.dewittiowa.org/events/details/state-association-for-the-preservation-of-iowa-cemeteries-04-11-2015-339
END:VEVENT

END:VCALENDAR
