BEGIN:VCALENDAR
VERSION:2.0
PRODID:-//ChamberMaster//Event Calendar 2.0//EN
METHOD:PUBLISH
X-PUBLISHED-TTL:P3D
REFRESH-INTERVAL:P3D
CALSCALE:GREGORIAN
BEGIN:VEVENT
DTSTART:20170222T150000Z
DTEND:20170222T160000Z
X-MICROSOFT-CDO-ALLDAYEVENT:FALSE
SUMMARY:Library Story Times
DESCRIPTION:Preschool Story hour for ages 3-5\; Mother Goose is for ages 0-3.  No need to sign up\, just come whenever you can!
X-ALT-DESC;FMTTYPE=text/html:Preschool Story hour for ages 3-5\; Mother Goose is for ages 0-3. &nbsp\;No need to sign up\, just come whenever you can!
LOCATION:Frances Banta Waggoner Community Library 505 10th St. DeWitt\, IA
UID:e.1774.1572
SEQUENCE:3
DTSTAMP:20260420T012019Z
URL:https://business.dewittiowa.org/events/details/story-times-02-22-2017-1572
END:VEVENT

END:VCALENDAR
