BEGIN:VCALENDAR
VERSION:2.0
PRODID:-//ChamberMaster//Event Calendar 2.0//EN
METHOD:PUBLISH
X-PUBLISHED-TTL:P3D
REFRESH-INTERVAL:P3D
CALSCALE:GREGORIAN
BEGIN:VEVENT
DTSTART:20170419T140000Z
DTEND:20170419T150000Z
X-MICROSOFT-CDO-ALLDAYEVENT:FALSE
SUMMARY:Library Story Times
DESCRIPTION:Mother Goose Time\n\nFor infants/toddlers up to 3 years old (with a caretaker)\n\nMeets in the Library Meeting Room\n\n\n\nPreschool Story Time\n\nFor children 3-5 years old (with a caretaker)\n\nMeets in the Children's Department \n\n\n\nBoth begin at 9:00 a.m. \n\n\n\nNo need to sign up\, just come whenever you can!
X-ALT-DESC;FMTTYPE=text/html:<div><span style="font-family:verdana\;"><span style="font-size: 14px\;"><span _mce_style="font-size: 12pt\;"><strong>Mother Goose Time</strong><br />\nFor infants/toddlers up to 3 years old (with a caretaker)<br />\nMeets in the Library Meeting Room</span></span></span></div>\n\n<div><br />\n<span style="font-family:verdana\;"><span style="font-size: 14px\;"><span _mce_style="font-size: 12pt\;"><strong>Preschool Story Time</strong><br />\nFor children 3-5 years old (with a caretaker)<br />\nMeets in the Children&#39\;s Department </span></span></span></div>\n\n<div><br />\n<span style="font-family:verdana\;"><span style="font-size: 14px\;">Both begin at 9:00 a.m.&nbsp\;<br />\n<br />\n<span _mce_style="font-size: 12pt\;">No need to sign up\,</span> <span _mce_style="font-size: 12pt\;">just come whenever you can!</span></span></span></div>\n
LOCATION:Frances Banta Waggoner Community Library 505 10th St. DeWitt\, IA
UID:e.1774.1579
SEQUENCE:3
DTSTAMP:20260419T220150Z
URL:https://business.dewittiowa.org/events/details/story-times-04-19-2017-1579
END:VEVENT

END:VCALENDAR
