BEGIN:VCALENDAR
VERSION:2.0
PRODID:-//ChamberMaster//Event Calendar 2.0//EN
METHOD:PUBLISH
X-PUBLISHED-TTL:P3D
REFRESH-INTERVAL:P3D
CALSCALE:GREGORIAN
BEGIN:VEVENT
DTSTART:20170705T140000Z
DTEND:20170705T144500Z
X-MICROSOFT-CDO-ALLDAYEVENT:FALSE
SUMMARY:Story Times
DESCRIPTION:Stories\, activities\, crafts\, and snacks for infants thru early elementary!
X-ALT-DESC;FMTTYPE=text/html:Stories\, activities\, crafts\, and snacks for infants thru early elementary!
LOCATION:Frances Banta Waggoner Community Library 505 10th St. DeWitt\, IA
UID:e.1774.3163
SEQUENCE:3
DTSTAMP:20260419T152707Z
URL:https://business.dewittiowa.org/events/details/story-times-07-05-2017-3163
END:VEVENT

END:VCALENDAR
