BEGIN:VCALENDAR
VERSION:2.0
PRODID:-//ChamberMaster//Event Calendar 2.0//EN
METHOD:PUBLISH
X-PUBLISHED-TTL:P3D
REFRESH-INTERVAL:P3D
CALSCALE:GREGORIAN
BEGIN:VEVENT
DTSTART:20161005T140000Z
DTEND:20161005T150000Z
X-MICROSOFT-CDO-ALLDAYEVENT:FALSE
SUMMARY:Library Story Times
DESCRIPTION:Mother Goose Time for infants to 3-year olds and Preschool Story Time for 3-5 years olds both begin at 9:00 a.m.
X-ALT-DESC;FMTTYPE=text/html:Mother Goose Time for infants to 3-year olds and Preschool Story Time for 3-5 years olds both begin at 9:00 a.m.&nbsp\;
LOCATION:Frances Banta Waggoner Community Library 505 10th St. DeWitt\, IA
UID:e.1774.1555
SEQUENCE:3
DTSTAMP:20260420T073810Z
URL:https://business.dewittiowa.org/events/details/story-times-10-05-2016-1555
END:VEVENT

END:VCALENDAR
