BEGIN:VCALENDAR
VERSION:2.0
PRODID:-//ChamberMaster//Event Calendar 2.0//EN
METHOD:PUBLISH
X-PUBLISHED-TTL:P3D
REFRESH-INTERVAL:P3D
CALSCALE:GREGORIAN
BEGIN:VEVENT
DTSTART:20170607T140000Z
DTEND:20170607T170000Z
X-MICROSOFT-CDO-ALLDAYEVENT:FALSE
SUMMARY:Story Times
DESCRIPTION:Story Time for infant to 3-year-olds - - and for 3 thru 5 year olds with early elementary kids welcome . . . stories\, activities\, and crafts
X-ALT-DESC;FMTTYPE=text/html:Story Time for infant to 3-year-olds - - and for 3 thru 5 year olds with early elementary kids welcome . . . stories\, activities\, and crafts
LOCATION:Frances Banta Waggoner Community Library In the meeting room and the kids' corner 505 10th St. DeWitt\, IA
UID:e.1774.3101
SEQUENCE:3
DTSTAMP:20260419T165218Z
URL:https://business.dewittiowa.org/events/details/story-times-3101
END:VEVENT

END:VCALENDAR
