BEGIN:VCALENDAR
VERSION:2.0
PRODID:-//ChamberMaster//Event Calendar 2.0//EN
METHOD:PUBLISH
X-PUBLISHED-TTL:P3D
REFRESH-INTERVAL:P3D
CALSCALE:GREGORIAN
BEGIN:VEVENT
DTSTART:20170712T140000Z
DTEND:20170712T144500Z
X-MICROSOFT-CDO-ALLDAYEVENT:FALSE
SUMMARY:Story Times for Mother Goose AND for Preschool +
DESCRIPTION:Stories and activities . . . crafts and snacks . . . for babies thru 3 year olds . . . and 4-5-6-7-8 year olds!
X-ALT-DESC;FMTTYPE=text/html:Stories and activities . . . crafts and snacks . . . for babies thru 3 year olds . . . and 4-5-6-7-8 year olds!
LOCATION:At the DeWitt Library
UID:e.1774.3175
SEQUENCE:3
DTSTAMP:20260419T170248Z
URL:https://business.dewittiowa.org/events/details/story-times-for-mother-goose-and-for-preschool-3175
END:VEVENT

END:VCALENDAR
