BEGIN:VCALENDAR
VERSION:2.0
PRODID:-//ChamberMaster//Event Calendar 2.0//EN
METHOD:PUBLISH
X-PUBLISHED-TTL:P3D
REFRESH-INTERVAL:P3D
CALSCALE:GREGORIAN
BEGIN:VEVENT
DTSTART:20160417T183000Z
DTEND:20160417T200000Z
X-MICROSOFT-CDO-ALLDAYEVENT:FALSE
SUMMARY:Student Star Performers
DESCRIPTION:Central DeWitt students who received Division I ratings at state contests for speech and music will perform.
X-ALT-DESC;FMTTYPE=text/html:Central DeWitt students who received Division I ratings at state contests for speech and music will perform.
LOCATION:Central DeWitt Performing Arts Center 519 E. 11th St. DeWitt\, IA
UID:e.1774.1280
SEQUENCE:3
DTSTAMP:20260420T152335Z
URL:https://business.dewittiowa.org/events/details/student-star-performers-04-17-2016-1280
END:VEVENT

END:VCALENDAR
