BEGIN:VCALENDAR
VERSION:2.0
PRODID:-//ChamberMaster//Event Calendar 2.0//EN
METHOD:PUBLISH
X-PUBLISHED-TTL:P3D
REFRESH-INTERVAL:P3D
CALSCALE:GREGORIAN
BEGIN:VEVENT
DTSTART:20170409T183000Z
DTEND:20170409T200000Z
X-MICROSOFT-CDO-ALLDAYEVENT:FALSE
SUMMARY:Student Star Performers
DESCRIPTION:Student Star Performers are Central DeWitt High School students who receive Division I ratings at band\, choral and speech contests.  The program will include a variety of performances by those students.  The event is sponsored by DeWitt Area Fine Arts Foundation.
X-ALT-DESC;FMTTYPE=text/html:<div><span style="font-size:14px"><span style="font-size:16px">Student Star Performers </span>are Central DeWitt High School students who receive Division I ratings at band\, choral and speech contests.&nbsp\; The program will include a variety of performances by those students.&nbsp\; The event is sponsored by DeWitt Area Fine Arts Foundation.&nbsp\; </span></div>\n
LOCATION:Central DeWitt Performing Arts Center 519 E. 11th Street\, DeWitt
UID:e.1774.1915
SEQUENCE:3
DTSTAMP:20260419T201359Z
URL:https://business.dewittiowa.org/events/details/student-star-performers-1915
END:VEVENT

END:VCALENDAR
