BEGIN:VCALENDAR
VERSION:2.0
PRODID:-//ChamberMaster//Event Calendar 2.0//EN
METHOD:PUBLISH
X-PUBLISHED-TTL:P3D
REFRESH-INTERVAL:P3D
CALSCALE:GREGORIAN
BEGIN:VEVENT
DTSTART;VALUE=DATE:20160829
DTEND;VALUE=DATE:20160907
TRANSP:TRANSPARENT
X-MICROSOFT-CDO-ALLDAYEVENT:TRUE
SUMMARY:SUMMER BREAK @ THE CROSSROADS Inspired Living & Garden Cafe
DESCRIPTION:SUMMER BREAK @ THE CROSSROADS & Garden Cafe . . . \n\nBegins Monday\, Aug. 29 ~ Returning Tuesday\, Sept. 6\n\n\n\nExpanded Morning Store & Cafe Hours\, New Menu Items\, Espresso Drinks\, Full Table Service & More awaits you September 7th!\n\n\n\nPlus\, Our September 5-Year Anniversary & Three Day Customer Appreciation Event\n\n\n\nStay Tuned for Details!
X-ALT-DESC;FMTTYPE=text/html:<span style="font-size:22px"><span style="color:rgb(255\, 140\, 0)"><strong>SUMMER BREAK</strong> </span>@ THE CROSSROADS &amp\; Garden Cafe . . . </span><br />\n<span style="font-size:20px">Begins Monday\, Aug. 29 ~ Returning Tuesday\, Sept. 6<br />\n<br />\n<span style="color:rgb(255\, 140\, 0)"><span style="font-size:22px"><strong>Expanded Morning Store &amp\; Cafe Hours\,</strong></span> </span>New Menu Items\, Espresso Drinks\, Full Table Service &amp\; More<span style="color:rgb(255\, 140\, 0)"> </span>awaits you September 7th!<br />\n<br />\n<strong><span style="font-size:22px"><span style="color:rgb(255\, 140\, 0)">Plus\, </span>Our September<em> </em><span style="font-size:24px"><em><span style="color:rgb(255\, 140\, 0)"><em>5</em>-Year Anniversary</span> </em></span>&amp\; Three Day Customer Appreciation Event</span></strong><br />\n<br />\n<span style="font-size:22px"><em>Stay Tuned for Details!</em></span></span><br />\n&nbsp\;
LOCATION:6th Avenue & 10th Street * Downtown DeWitt
UID:e.1774.1535
SEQUENCE:3
DTSTAMP:20260420T074215Z
URL:https://business.dewittiowa.org/events/details/summer-break-the-crossroads-inspired-living-garden-cafe-1535
END:VEVENT

END:VCALENDAR
