BEGIN:VCALENDAR
VERSION:2.0
PRODID:-//ChamberMaster//Event Calendar 2.0//EN
METHOD:PUBLISH
X-PUBLISHED-TTL:P3D
REFRESH-INTERVAL:P3D
CALSCALE:GREGORIAN
BEGIN:VEVENT
DTSTART:20170711T170000Z
DTEND:20170711T170000Z
X-MICROSOFT-CDO-ALLDAYEVENT:FALSE
SUMMARY:Summer Lunch Box Program
DESCRIPTION:Your family qualifies for a weekly summer lunch box kit if: 1. You have children  2. You live in the Central DeWitt Community School District. You don't need to be a client to qualify! You can pick-up a kit once a week through the program. Please sign up at the Referral Center as soon as possible.
X-ALT-DESC;FMTTYPE=text/html:Your family qualifies for a weekly summer lunch box kit if: 1. You have children &nbsp\;2. You live in the Central DeWitt Community School District. You don't need to be a client to qualify! You can pick-up a kit once a week through the program. Please sign up at the Referral Center as soon as possible.
LOCATION:Referral Center 615 8th Street DeWitt\, IA
UID:e.1774.3037
SEQUENCE:3
DTSTAMP:20260419T150159Z
URL:https://business.dewittiowa.org/events/details/summer-lunch-box-program-07-11-2017-3037
END:VEVENT

END:VCALENDAR
