BEGIN:VCALENDAR
VERSION:2.0
PRODID:-//ChamberMaster//Event Calendar 2.0//EN
METHOD:PUBLISH
X-PUBLISHED-TTL:P3D
REFRESH-INTERVAL:P3D
CALSCALE:GREGORIAN
BEGIN:VEVENT
DTSTART:20160607T150000Z
DTEND:20160611T170000Z
X-MICROSOFT-CDO-ALLDAYEVENT:FALSE
SUMMARY:Summer Reading Program Events
DESCRIPTION:Make-it/Take-it - - Tuesday\, 10:00 a.m.-2:00 p.m.\n	Mother Goose & Preschool Story Times - - Wednesday. 9:00 a.m. AND Book Clubs at 10:30 a.m. & 3:30 p.m.\n	Family Program - - Thursday\, 1:00 p.m.\n	Movie/"Karate Kid" - - Friday 10:00 a.m.\n	Kindermusik - - Saturday\, 9:30 a.m.\n	Kids' Klub - - Saturday\, 11:00 a.m.
X-ALT-DESC;FMTTYPE=text/html:<ul>\n	<li>Make-it/Take-it - - Tuesday\, 10:00 a.m.-2:00 p.m.</li>\n	<li>Mother Goose &amp\; Preschool Story Times - - Wednesday. 9:00 a.m.&nbsp\;AND Book Clubs at 10:30 a.m. &amp\; 3:30 p.m.</li>\n	<li>Family Program - - Thursday\, 1:00 p.m.</li>\n	<li>Movie/&quot\;Karate Kid&quot\; - - Friday 10:00 a.m.</li>\n	<li>Kindermusik - - Saturday\, 9:30 a.m.</li>\n	<li>Kids&#39\; Klub - - Saturday\, 11:00 a.m.</li>\n</ul>\n
LOCATION:Frances Banta Waggoner Community Library
UID:e.1774.1382
SEQUENCE:3
DTSTAMP:20260420T121802Z
URL:https://business.dewittiowa.org/events/details/summer-reading-program-events-06-07-2016-1382
END:VEVENT

END:VCALENDAR
