BEGIN:VCALENDAR
VERSION:2.0
PRODID:-//ChamberMaster//Event Calendar 2.0//EN
METHOD:PUBLISH
X-PUBLISHED-TTL:P3D
REFRESH-INTERVAL:P3D
CALSCALE:GREGORIAN
BEGIN:VEVENT
DTSTART:20160613T200000Z
DTEND:20160617T170000Z
X-MICROSOFT-CDO-ALLDAYEVENT:FALSE
SUMMARY:Summer Reading Program Events
DESCRIPTION:Monday: Teen Writing Club - 3:00 p.m.\n\nTuesday: Make-it/Take-it -10:00 a.m.\n\n                Adult Coloring Time -10:00 a.m.\n\nWednesday:  Mother Goose & Story Times - 9 a.m.\n\n                      Tween Book Club - 10:30 a.m.\n\n                      Teen Book Club - 3:30 p.m.\n\nThursday: Family Program - 1:00 p.m.\n\nFriday: Movie - 10:00 a.m.
X-ALT-DESC;FMTTYPE=text/html:Monday: Teen Writing Club - 3:00 p.m.<br />\nTuesday: Make-it/Take-it -10:00 a.m.<br />\n&nbsp\;&nbsp\; &nbsp\; &nbsp\; &nbsp\; &nbsp\; &nbsp\; &nbsp\; &nbsp\;Adult Coloring Time -10:00 a.m.<br />\nWednesday: &nbsp\;Mother Goose &amp\; Story Times - 9 a.m.<br />\n&nbsp\;&nbsp\;&nbsp\;&nbsp\;&nbsp\;&nbsp\;&nbsp\;&nbsp\;&nbsp\;&nbsp\;&nbsp\;&nbsp\;&nbsp\;&nbsp\;&nbsp\;&nbsp\;&nbsp\;&nbsp\;&nbsp\;&nbsp\;&nbsp\; Tween Book Club - 10:30 a.m.<br />\n&nbsp\;&nbsp\; &nbsp\; &nbsp\; &nbsp\; &nbsp\; &nbsp\; &nbsp\; &nbsp\; &nbsp\; &nbsp\; &nbsp\;Teen Book Club - 3:30 p.m.<br />\nThursday: Family Program - 1:00 p.m.<br />\nFriday: Movie - 10:00 a.m.
LOCATION:Frances Banta Waggoner Community Library
UID:e.1774.1391
SEQUENCE:3
DTSTAMP:20260420T121830Z
URL:https://business.dewittiowa.org/events/details/summer-reading-program-events-06-13-2016-1391
END:VEVENT

END:VCALENDAR
